BEGIN:VCALENDAR
VERSION:2.0
PRODID:-//Kio-o - ECPv6.15.12.2//NONSGML v1.0//EN
CALSCALE:GREGORIAN
METHOD:PUBLISH
X-WR-CALNAME:Kio-o
X-ORIGINAL-URL:https://kio-o.ca
X-WR-CALDESC:Évènements pour Kio-o
REFRESH-INTERVAL;VALUE=DURATION:PT1H
X-Robots-Tag:noindex
X-PUBLISHED-TTL:PT1H
BEGIN:VTIMEZONE
TZID:America/New_York
BEGIN:DAYLIGHT
TZOFFSETFROM:-0500
TZOFFSETTO:-0400
TZNAME:EDT
DTSTART:20190310T070000
END:DAYLIGHT
BEGIN:STANDARD
TZOFFSETFROM:-0400
TZOFFSETTO:-0500
TZNAME:EST
DTSTART:20191103T060000
END:STANDARD
BEGIN:DAYLIGHT
TZOFFSETFROM:-0500
TZOFFSETTO:-0400
TZNAME:EDT
DTSTART:20200308T070000
END:DAYLIGHT
BEGIN:STANDARD
TZOFFSETFROM:-0400
TZOFFSETTO:-0500
TZNAME:EST
DTSTART:20201101T060000
END:STANDARD
BEGIN:DAYLIGHT
TZOFFSETFROM:-0500
TZOFFSETTO:-0400
TZNAME:EDT
DTSTART:20210314T070000
END:DAYLIGHT
BEGIN:STANDARD
TZOFFSETFROM:-0400
TZOFFSETTO:-0500
TZNAME:EST
DTSTART:20211107T060000
END:STANDARD
END:VTIMEZONE
BEGIN:VEVENT
DTSTART;VALUE=DATE:20200720
DTEND;VALUE=DATE:20200725
DTSTAMP:20260423T062738
CREATED:20200216T195705Z
LAST-MODIFIED:20210528T174404Z
UID:10005699-1595203200-1595635199@kio-o.ca
SUMMARY:Créer la vie qui t'inspire
DESCRIPTION:avec l’équipe de Solutions Era et Francis Gendron \n  \nDétails à venir.
URL:https://kio-o.ca/evenement/creer-la-vie-qui-tinspire/2020-07-20/
LOCATION:Kio-o\, 1905 Chemin du rang 6\, Sainte-Lucie\, Québec\, J0T 2J0\, Canada
CATEGORIES:Académique,Développement personnel,Expression créative
ATTACH;FMTTYPE=image/png:https://kio-o.ca/wp-content/uploads/2020/02/Francis-Gendron-1.png
ORGANIZER;CN="Solutions Era":MAILTO:info@solutionera.com
GEO:46.132966;-74.1940374
X-APPLE-STRUCTURED-LOCATION;VALUE=URI;X-ADDRESS=Kio-o 1905 Chemin du rang 6 Sainte-Lucie Québec J0T 2J0 Canada;X-APPLE-RADIUS=500;X-TITLE=1905 Chemin du rang 6:geo:-74.1940374,46.132966
END:VEVENT
BEGIN:VEVENT
DTSTART;VALUE=DATE:20200724
DTEND;VALUE=DATE:20200727
DTSTAMP:20260423T062738
CREATED:20190125T231731Z
LAST-MODIFIED:20200703T204027Z
UID:10005850-1595548800-1595807999@kio-o.ca
SUMMARY:Retraite de yoga avec Diane Durocher - ANNULÉ
DESCRIPTION:Détails à venir.
URL:https://kio-o.ca/evenement/retraite-de-yoga-avec-diane-durocher-2020-07-24/
LOCATION:Kio-o\, 1905 Chemin du rang 6\, Sainte-Lucie\, Québec\, J0T 2J0\, Canada
CATEGORIES:Yoga
ATTACH;FMTTYPE=image/jpeg:https://kio-o.ca/wp-content/uploads/2019/01/Diane-Durocher.jpg
GEO:46.132966;-74.1940374
X-APPLE-STRUCTURED-LOCATION;VALUE=URI;X-ADDRESS=Kio-o 1905 Chemin du rang 6 Sainte-Lucie Québec J0T 2J0 Canada;X-APPLE-RADIUS=500;X-TITLE=1905 Chemin du rang 6:geo:-74.1940374,46.132966
END:VEVENT
BEGIN:VEVENT
DTSTART;VALUE=DATE:20200724
DTEND;VALUE=DATE:20200727
DTSTAMP:20260423T062738
CREATED:20200207T224740Z
LAST-MODIFIED:20200720T194258Z
UID:10005907-1595548800-1595807999@kio-o.ca
SUMMARY:Les soins d'Auré
DESCRIPTION:avec Aurélie Blanwalhin-Dupont \n  \n 
URL:https://kio-o.ca/evenement/les-soins-daure/2020-07-24/
LOCATION:Kio-o\, 1905 Chemin du rang 6\, Sainte-Lucie\, Québec\, J0T 2J0\, Canada
CATEGORIES:Développement personnel,Santé globale
ATTACH;FMTTYPE=image/jpeg:https://kio-o.ca/wp-content/uploads/2020/02/IMG_20191129_001827.jpg
ORGANIZER;CN="Aur%C3%A9lie Blanwalhin-Dupont":MAILTO:info@lessonsdaure.ca
GEO:46.132966;-74.1940374
X-APPLE-STRUCTURED-LOCATION;VALUE=URI;X-ADDRESS=Kio-o 1905 Chemin du rang 6 Sainte-Lucie Québec J0T 2J0 Canada;X-APPLE-RADIUS=500;X-TITLE=1905 Chemin du rang 6:geo:-74.1940374,46.132966
END:VEVENT
BEGIN:VEVENT
DTSTART;VALUE=DATE:20200724
DTEND;VALUE=DATE:20200728
DTSTAMP:20260423T062738
CREATED:20200216T194459Z
LAST-MODIFIED:20200705T200720Z
UID:10005913-1595548800-1595894399@kio-o.ca
SUMMARY:Qi-Gong avec Luce Desgagné - ANNULÉ
DESCRIPTION:
URL:https://kio-o.ca/evenement/qi-gong-avec-luce-desgagnes/
LOCATION:Kio-o\, 1905 Chemin du rang 6\, Sainte-Lucie\, Québec\, J0T 2J0\, Canada
CATEGORIES:Mouvement,Qi Gong,Santé globale
ATTACH;FMTTYPE=image/jpeg:https://kio-o.ca/wp-content/uploads/2020/02/LuceDesgagné.jpg
ORGANIZER;CN="Luce Desgagn%C3%A9":MAILTO:luce.qigong@gmail.com
GEO:46.132966;-74.1940374
X-APPLE-STRUCTURED-LOCATION;VALUE=URI;X-ADDRESS=Kio-o 1905 Chemin du rang 6 Sainte-Lucie Québec J0T 2J0 Canada;X-APPLE-RADIUS=500;X-TITLE=1905 Chemin du rang 6:geo:-74.1940374,46.132966
END:VEVENT
BEGIN:VEVENT
DTSTART;VALUE=DATE:20200726
DTEND;VALUE=DATE:20200730
DTSTAMP:20260423T062738
CREATED:20200216T195920Z
LAST-MODIFIED:20200301T183800Z
UID:10005702-1595721600-1596067199@kio-o.ca
SUMMARY:Bioconcensus - Georges Lahy - ANNULÉ
DESCRIPTION:
URL:https://kio-o.ca/evenement/atelier-avec-bioconcensus/
LOCATION:Kio-o\, 1905 Chemin du rang 6\, Sainte-Lucie\, Québec\, J0T 2J0\, Canada
CATEGORIES:Développement personnel,Santé globale
ORGANIZER;CN="Georges Lahy":MAILTO:bioconsensus@gmail.com
GEO:46.132966;-74.1940374
X-APPLE-STRUCTURED-LOCATION;VALUE=URI;X-ADDRESS=Kio-o 1905 Chemin du rang 6 Sainte-Lucie Québec J0T 2J0 Canada;X-APPLE-RADIUS=500;X-TITLE=1905 Chemin du rang 6:geo:-74.1940374,46.132966
END:VEVENT
END:VCALENDAR