BEGIN:VCALENDAR
VERSION:2.0
PRODID:-//Kio-o - ECPv6.15.12.2//NONSGML v1.0//EN
CALSCALE:GREGORIAN
METHOD:PUBLISH
X-WR-CALNAME:Kio-o
X-ORIGINAL-URL:https://kio-o.ca
X-WR-CALDESC:Évènements pour Kio-o
REFRESH-INTERVAL;VALUE=DURATION:PT1H
X-Robots-Tag:noindex
X-PUBLISHED-TTL:PT1H
BEGIN:VTIMEZONE
TZID:America/New_York
BEGIN:DAYLIGHT
TZOFFSETFROM:-0500
TZOFFSETTO:-0400
TZNAME:EDT
DTSTART:20190310T070000
END:DAYLIGHT
BEGIN:STANDARD
TZOFFSETFROM:-0400
TZOFFSETTO:-0500
TZNAME:EST
DTSTART:20191103T060000
END:STANDARD
BEGIN:DAYLIGHT
TZOFFSETFROM:-0500
TZOFFSETTO:-0400
TZNAME:EDT
DTSTART:20200308T070000
END:DAYLIGHT
BEGIN:STANDARD
TZOFFSETFROM:-0400
TZOFFSETTO:-0500
TZNAME:EST
DTSTART:20201101T060000
END:STANDARD
BEGIN:DAYLIGHT
TZOFFSETFROM:-0500
TZOFFSETTO:-0400
TZNAME:EDT
DTSTART:20210314T070000
END:DAYLIGHT
BEGIN:STANDARD
TZOFFSETFROM:-0400
TZOFFSETTO:-0500
TZNAME:EST
DTSTART:20211107T060000
END:STANDARD
END:VTIMEZONE
BEGIN:VEVENT
DTSTART;VALUE=DATE:20201009
DTEND;VALUE=DATE:20201016
DTSTAMP:20260423T014113
CREATED:20200216T203520Z
LAST-MODIFIED:20200926T181511Z
UID:10005713-1602201600-1602806399@kio-o.ca
SUMMARY:Tantra Group with Frank Mondeose - ANNULÉ
DESCRIPTION:
URL:https://kio-o.ca/evenement/tantra-group-with-frank-mondeose/
LOCATION:Kio-o\, 1905 Chemin du rang 6\, Sainte-Lucie\, Québec\, J0T 2J0\, Canada
CATEGORIES:Développement personnel
GEO:46.132966;-74.1940374
X-APPLE-STRUCTURED-LOCATION;VALUE=URI;X-ADDRESS=Kio-o 1905 Chemin du rang 6 Sainte-Lucie Québec J0T 2J0 Canada;X-APPLE-RADIUS=500;X-TITLE=1905 Chemin du rang 6:geo:-74.1940374,46.132966
END:VEVENT
BEGIN:VEVENT
DTSTART;VALUE=DATE:20201016
DTEND;VALUE=DATE:20201019
DTSTAMP:20260423T014113
CREATED:20200821T150711Z
LAST-MODIFIED:20200821T150711Z
UID:10005928-1602806400-1603065599@kio-o.ca
SUMMARY:DANSER AVEC VOTRE FÉMININ SACRÉ - avec Lisa McLellan
DESCRIPTION: \nRÉVEILLEZ VOTRE JOIE\, RAYONNEZ\, INCARNEZ VOTRE POUVOIR SACRÉ\n\nDurant cette fin de semaine nous voyagerons à l’intérieur de nous-mêmes et commencerons à nous libérer\, à nous redéfinir et à nous souvenir.  Par la méditation guidée\, le Yoga\, la respiration et la danse nous explorerons l’esprit ludique et créatif du féminin sacré\, dans la relaxation et le ressourcement. \n\nJe vous invite à me rejoindre au centre de retraite KIO-O\, au bord d’un lac privé\, niché dans la paix et la tranquillité des montagnes des Laurentides avec un groupe intime de 12 femmes.\nDurant cette fin de semaine Danser avec votre féminin sacré\, nous voyagerons à l’intérieur de nous-mêmes et commencerons à nous libérer\, à nous redéfinir et à nous souvenir; nous initierons un retour vers soi\, nous reconnecterons à notre intuition féminine innée et nous réalignerons avec la pureté de notre incarnation\, de l’amour de soi\, de la confiance\, de la vitalité et de l’authenticité en tant que femmes et sœurs sur ce chemin.   Nos activités comprennent : la méditation guidée\, le Hatha yoga\, le travail de respiration chamanique\, la danse sacrée et un rituel de la nouvelle lune\, ainsi que des bains en forêt\, un feu de joie et du temps libre pour nous plonger dans l’esprit ludique et créatif du féminin sacré\, dans la relaxation et le ressourcement. \nLa retraite commence par un souper à 18 h le vendredi. Vous êtes invités à arriver à tout moment après 15 heures. La retraite se termine après le dîner du dimanche. Vous pouvez rester et profiter du site jusqu’à 16h. Cette retraite est bilingue. \nRETRAITE DE FIN DE SEMAINE : 606 $ en occupation simple – 500 $ en occupation double (taxes incluses). Espace limité. \nINSCRIPTION HÂTIVE : Inscrivez-vous avant le 16 septembre 2020 – 556 $ en occupation simple – 450 $ en occupation double (taxes incluses) \nINCLUS : 6 repas végétariens (2 soupers\, 2 déjeuners\, 2 dîners) \nARRIVÉE ET DÉPART : L’arrivée se fait entre 15h et 18h. La retraite se termine après le déjeuner le dimanche. On nous demande de libérer nos chambres après le déjeuner\, mais vous êtes invité à rester et à profiter des espaces extérieurs pour le reste de l’après-midi. \nHEBERGEMENT : Les chambres ont des lits simples. Toutes les salles de bain sont partagées. \nREPAS : Les repas sont servis sur un plateau individuel. Si vous avez des allergies ou intolérances alimentaires nous en informer lors de votre réservation. Nous finirons nos repas en lavant nos propres plats; c’est rapide\, efficace agréable et sécuritaire..
URL:https://kio-o.ca/evenement/danser-avec-votre-feminin-sacre-avec-lisa-mclellan/
LOCATION:Kio-o\, 1905 Chemin du rang 6\, Sainte-Lucie\, Québec\, J0T 2J0\, Canada
CATEGORIES:Mouvement
ATTACH;FMTTYPE=image/png:https://kio-o.ca/wp-content/uploads/2020/08/LisaMcLellan.png
ORGANIZER;CN="Lisa McLellan":MAILTO:lisamclellan07@gmail.com
GEO:46.132966;-74.1940374
X-APPLE-STRUCTURED-LOCATION;VALUE=URI;X-ADDRESS=Kio-o 1905 Chemin du rang 6 Sainte-Lucie Québec J0T 2J0 Canada;X-APPLE-RADIUS=500;X-TITLE=1905 Chemin du rang 6:geo:-74.1940374,46.132966
END:VEVENT
END:VCALENDAR