BEGIN:VCALENDAR
VERSION:2.0
PRODID:-//Kio-o - ECPv6.15.12.2//NONSGML v1.0//EN
CALSCALE:GREGORIAN
METHOD:PUBLISH
X-ORIGINAL-URL:https://kio-o.ca
X-WR-CALDESC:Évènements pour Kio-o
REFRESH-INTERVAL;VALUE=DURATION:PT1H
X-Robots-Tag:noindex
X-PUBLISHED-TTL:PT1H
BEGIN:VTIMEZONE
TZID:America/New_York
BEGIN:DAYLIGHT
TZOFFSETFROM:-0500
TZOFFSETTO:-0400
TZNAME:EDT
DTSTART:20190310T070000
END:DAYLIGHT
BEGIN:STANDARD
TZOFFSETFROM:-0400
TZOFFSETTO:-0500
TZNAME:EST
DTSTART:20191103T060000
END:STANDARD
BEGIN:DAYLIGHT
TZOFFSETFROM:-0500
TZOFFSETTO:-0400
TZNAME:EDT
DTSTART:20200308T070000
END:DAYLIGHT
BEGIN:STANDARD
TZOFFSETFROM:-0400
TZOFFSETTO:-0500
TZNAME:EST
DTSTART:20201101T060000
END:STANDARD
BEGIN:DAYLIGHT
TZOFFSETFROM:-0500
TZOFFSETTO:-0400
TZNAME:EDT
DTSTART:20210314T070000
END:DAYLIGHT
BEGIN:STANDARD
TZOFFSETFROM:-0400
TZOFFSETTO:-0500
TZNAME:EST
DTSTART:20211107T060000
END:STANDARD
END:VTIMEZONE
BEGIN:VEVENT
DTSTART;VALUE=DATE:20201120
DTEND;VALUE=DATE:20201123
DTSTAMP:20260423T000122
CREATED:20200216T204123Z
LAST-MODIFIED:20200810T193858Z
UID:10005715-1605830400-1606089599@kio-o.ca
SUMMARY:Retraite de yoga\, méditation et journal créatif - Alysson Martel et Julien Remo
DESCRIPTION:Retraite de yoga\, méditation et journal créatif\nEspace Atman est LA ressource en mieux-être. Retraite d’un weekend combinant le yoga\, de la méditation\, des enseignements de pleine conscience\, des exercices d’écriture et de collage\, des rituels de libération\, des moments de silence\, des marches méditatives et de la danse expressive. \nCette retraite d’un weekend permet de décrocher des nombreuses responsabilités du quotidien afin de reconnecter avec sa petite voix intérieure. \nS’arrêter et prendre du temps pour soi peut parfois être laborieux; cela demande de dire non à certaines choses\, de déplacer des activités dans son horaire\, de mettre ses limites et d’assumer ses besoins et responsabilités. Or\, nous vous garantissons que les bienfaits récoltés surpassent de beaucoup les efforts déployés. \n  \nPOUR VOUS INSCRIRE \n1) Nous faire un virement interac de 200 $ à info@espaceatman.com pour payer le dépôt qui assure votre place (question : quelle date; réponse : 20novembre). \n2) Nous envoyer votre courriel\, numéro de téléphone et toute allergie ou intolérance alimentaire par Messenger (Alysson Martel)\, courriel (alysson@espaceatman.com) ou texto 514 757-3052; \n3) Vous mettre participant à l’événement Facebook : https://www.facebook.com/events/2211774435783717/ \n  \nQUAND \n\nVendredi 18 h au dimanche 14 h\, 20 au 22 novembre 2020\n\n  \nTARIF \n475 $+tx* avant le 1er septembre\, 525 $+tx* après le 1er septembre \nTarif incluant : \n\n2 nuitées en hébergement double (il faut ajouter 90 $+taxes en occ. simple);\n6 succulents repas végétariens;\nLes collations et tisanes;\n7 séances en groupe;\nEnseignements de pleine conscience;\nRituels en nature\nTemps libre pour se reposer;\n\n*Rabais \n\nRabais « Early Bird » de 50 $ pour inscription hâtives avant le 1er septembre 2020;\nRabais de 20 $ pour chaque personne que vous référez et qui vient avec vous;\nRabais pour couple : 20 $/personne;\n\nDépôt \n\nDépôt obligatoire pour réserver votre place : 200 $ (à effectuer par virement interac à info@espaceatman.com; question : quelle date; réponse : 20novembre).\n100% remboursable si annulation plus de 2 mois avant la retraite (donc avant le 20 septembre).\n50% remboursable si annulation plus d’un mois avant la retraite (donc avant le 20 octobre).\nNon remboursable si annulation moins d’un mois avant la retraite (sauf si des mesures sanitaires obligent l’annulation du séjour).\n\nBalance \nPayable en entier et non remboursable 2 semaines avant la retraite\, à moins de trouver quelqu’un pour vous remplacer (sauf si des mesures sanitaires obligent l’annulation du séjour). \nQUOI APPORTER \n\nArticles de toilette;\nTapis de yoga et autres accessoires si vous en avez (coussin\, bloc\, etc.);\nVêtements et chaussures pour l’extérieur;\nCahier d’écriture si vous en avez un;\n\nHORAIRE DÉTAILLÉ (Sujet à changement) \nVendredi \n18 h : arrivée et installation dans les chambres\n18 h 30 : souper et présentation\n19 h 30 : satsang (enseignements) en groupe \nSamedi \n7 h 30-8 h : méditation \n8 h 9 h : déjeuner\n9 h -10 h : temps libre\n10 h -12 h : yoga et méditation \nDébut du NOBLE SILENCE \n12 h -13 h : dîner\n13 h -14 h : marche méditative en groupe\n14 h- 15 h 30 : journal créatif et yoga restaurateur\n15 h 30-18 h : temps libre\n18 h : souper \n19 h : cercle d’échange suite au Noble Silence \n19 h 30 : satsang (enseignements) en groupe \nDimanche  \n7 h 30-8 h : méditation \n8 h – 9 h déjeuner \nFin du NOBLE SILENCE \n9 h -10 h : Retour sur le noble silence\n10 h -12 h : yoga et méditation\n12 h -13 h : dîner\n13 h-14 h : cercle de conclusion \n  \nPOUR VOUS INSCRIRE \n1) Nous faire un virement Interac de 200 $ à info@espaceatman.com pour payer le dépôt qui assure votre place (question : quelle date; réponse : 20novembre). \n2) Nous envoyer votre courriel\, numéro de téléphone et toute allergie ou intolérance alimentaire par Messenger (Alysson Martel)\, courriel (alysson@espaceatman.com) ou texto 514 757-3052; \n3) Vous mettre participant à l’événement Facebook : https://www.facebook.com/events/2211774435783717/ \n  \n  \nPOUR PLUS DE RENSEIGNEMENTS\nContactez-nous par écrit ou encore par téléphone afin de nous poser toutes vos questions. \ninfo@espaceatman.com \n514-757-3052 \nhttps://www.espaceatman.com/retraites-dun-weekend \nhttps://www.facebook.com/espaceatman/
URL:https://kio-o.ca/evenement/retraite-avec-alysson-martel/
LOCATION:Kio-o\, 1905 Chemin du rang 6\, Sainte-Lucie\, Québec\, J0T 2J0\, Canada
CATEGORIES:Développement personnel,Méditation,Yoga
ATTACH;FMTTYPE=image/png:https://kio-o.ca/wp-content/uploads/2020/02/Espaceatman.png
ORGANIZER;CN="Alysson Martel - Espace Atman":MAILTO:info@espaceatman.com
GEO:46.132966;-74.1940374
X-APPLE-STRUCTURED-LOCATION;VALUE=URI;X-ADDRESS=Kio-o 1905 Chemin du rang 6 Sainte-Lucie Québec J0T 2J0 Canada;X-APPLE-RADIUS=500;X-TITLE=1905 Chemin du rang 6:geo:-74.1940374,46.132966
END:VEVENT
BEGIN:VEVENT
DTSTART;VALUE=DATE:20201120
DTEND;VALUE=DATE:20201123
DTSTAMP:20260423T000122
CREATED:20200320T135536Z
LAST-MODIFIED:20201110T165921Z
UID:10005921-1605830400-1606089599@kio-o.ca
SUMMARY:La sagesse du plaisir – Biodanza - annulé
DESCRIPTION:Assumer ce dont on jouit\, c’est révéler qui l’on est. \nLa danse est un instant privilégié d’intensification du désir\, du plaisir\, de l’ardeur à vivre\, de la connexion profonde. Au coeur du mouvement pleinement habité\, l’intelligence hédoniste révèle le plus vital de notre identité. \nMais la vie contemporaine est riche en plaisirs frelatés\, en excitations vaines et en attractions idéales factices. \nNous pouvons réhabiliter la forêt sauvage qui abrite et nourrit notre luxuriance originelle\, la faune et la flore de nos désirs d’Humains\, d’hommes / de femmes\, d’individu unique et fait pour l’amour.  Dans le rapport au Féminin et au Masculin en soi\, dans la relation à l’Autre\, dans les somptueux paradoxes de la préférence et de la communion\, de l’affirmation et de l’affinité\, du défini et des possibles\, de Soi et de l’Amour\, la danse nous ramène à la source\, à l’inextinguibilité du désir et à l’arborescence infiniment réinventée de son expression. \nCe stage propose une exploration identitaire par la sagesse du plaisir.  Que la danse et les rencontres irriguent nos chairs d’une sagesse primordiale: désirer le désir et aimer notre plaisir. \n(Guillaume Husson a créé et dirige L’ECBTO.  Créateur notamment de stages «D’homme à homme» et «Amours\, dépendances et attachements»\, il est spécialisé dans le retour de Dyonisos». \nStage en résidence: Centre Kio-o\, 1905\, ch. du Rang 6\, Ste-Lucie (Québec) J0T 2J0 \nTarif: stage\, hébergement\, repas à venir\nDépôt de garantie: 50$ par virement inters à l’adresse sagesse2plaisir@gmail.com:\nQuestion: sagesse de quoi?\nRéponse: plaisir \nInformations et inscriptions:\nBertrand Chevalier biodanza-randos@orange.fr /+33676829831\n\n**Stage réservé aux personnes ayant au moins 2 ans de pratique régulière de la Biodanza et ayant participé à un ou plusieurs stages.
URL:https://kio-o.ca/evenement/la-sagesse-du-plaisir-biodanza-2/
LOCATION:Kio-o\, 1905 Chemin du rang 6\, Sainte-Lucie\, Québec\, J0T 2J0\, Canada
CATEGORIES:Mouvement
ORGANIZER;CN="MarieClaire Martinez":MAILTO:mrclrmartinez@gmail.com
GEO:46.132966;-74.1940374
X-APPLE-STRUCTURED-LOCATION;VALUE=URI;X-ADDRESS=Kio-o 1905 Chemin du rang 6 Sainte-Lucie Québec J0T 2J0 Canada;X-APPLE-RADIUS=500;X-TITLE=1905 Chemin du rang 6:geo:-74.1940374,46.132966
END:VEVENT
END:VCALENDAR