BEGIN:VCALENDAR
VERSION:2.0
PRODID:-//Kio-o - ECPv6.15.12.2//NONSGML v1.0//EN
CALSCALE:GREGORIAN
METHOD:PUBLISH
X-ORIGINAL-URL:https://kio-o.ca
X-WR-CALDESC:Évènements pour Kio-o
REFRESH-INTERVAL;VALUE=DURATION:PT1H
X-Robots-Tag:noindex
X-PUBLISHED-TTL:PT1H
BEGIN:VTIMEZONE
TZID:America/New_York
BEGIN:DAYLIGHT
TZOFFSETFROM:-0500
TZOFFSETTO:-0400
TZNAME:EDT
DTSTART:20200308T070000
END:DAYLIGHT
BEGIN:STANDARD
TZOFFSETFROM:-0400
TZOFFSETTO:-0500
TZNAME:EST
DTSTART:20201101T060000
END:STANDARD
BEGIN:DAYLIGHT
TZOFFSETFROM:-0500
TZOFFSETTO:-0400
TZNAME:EDT
DTSTART:20210314T070000
END:DAYLIGHT
BEGIN:STANDARD
TZOFFSETFROM:-0400
TZOFFSETTO:-0500
TZNAME:EST
DTSTART:20211107T060000
END:STANDARD
BEGIN:DAYLIGHT
TZOFFSETFROM:-0500
TZOFFSETTO:-0400
TZNAME:EDT
DTSTART:20220313T070000
END:DAYLIGHT
BEGIN:STANDARD
TZOFFSETFROM:-0400
TZOFFSETTO:-0500
TZNAME:EST
DTSTART:20221106T060000
END:STANDARD
END:VTIMEZONE
BEGIN:VEVENT
DTSTART;VALUE=DATE:20210521
DTEND;VALUE=DATE:20210524
DTSTAMP:20260422T185207
CREATED:20210228T211130Z
LAST-MODIFIED:20210521T205549Z
UID:10005952-1621555200-1621814399@kio-o.ca
SUMMARY:Retraite sur le tantra suprême avec Martin Bilodeau - Annulée
DESCRIPTION:Retraite sur le tantra suprême \nLe tantra a comme but principal des transformations intérieures pour empêcher les apparences et les conceptions ordinaires de se manifester et ainsi libérer les êtres de la souffrance. \n\n\n\n\n« LE TANTRISME NE VOUS APPREND PAS À VOUS DÉTACHER DU MONDE\, IL NE VOUS APPREND PAS À VOUS ATTACHER AU MONDE\, IL VOUS APPREND À EFFLEURER LE MONDE AVEC UN SOURIRE. » YOGI BHAJAN \n\n\n\n\nD’un point de vue pratique\, le tantra offre une vaste somme de connaissances et de moyens pratiques permettant aux hommes et aux femmes de reconnecter avec leur essence ultime et primordiale. \nLes exercices pratiqués durant cette retraite vous permettront de développer une vue supérieure sur les phénomènes et de ressentir le monde à travers un niveau de conscience supérieure. Votre taux vibratoire s’élèvera pour libérer un état de grande légèreté et de libération. Cet état sera le point de départ pour vous unir au divin et initier l’union des énergies masculine et féminine sous l’aspect des déités intérieures. \n\n\n\n\n\n\n\n\nCette fin de semaine est une invitation à transformer votre esprit pour entrer dans un état d’union avec tout ce qui vous entoure.\nLe tantra révèle au monde moderne des mystères d’une grande profondeur longtemps réservés à quelques rares initiés.\nCette retraite initiatique vous présente quelques-uns des plus précieux enseignements de Bouddha sur le tantrisme secret.\n\n\n\n\n\n\nCe voyage intérieur se vivra à travers les méditations suivantes :\nTechnique de libérations des attachements\nLes clefs de l’amour mystique\nMéditation sur le regard (échange de prana)\nPratique de respirations purificatrices\nGénération du feu intérieur/méditation du « toumö »\nMéditation sur la prise et le don (joyau du coeur)\nMahamudra (génération des différents aspects de la vacuité)\nMaîtrise des vents et des gouttes du corps subtil\nRéalisation des quatre puretés absolues\nGénération de l’union des déités intérieures\nPratique complémentaire sur l’harmonie des quatre éléments dans le corps et l’esprit\nDe courtes pratiques de chant sacré\, de méditation active\, de danse et de yoga seront aussi au programme pour offrir des moments de transition entre les enseignements et les pratiques principales.
URL:https://kio-o.ca/evenement/retraite-sur-le-tantra-supreme-avec-martin-bilodeau/
LOCATION:Kio-o\, 1905 Chemin du rang 6\, Sainte-Lucie\, Québec\, J0T 2J0\, Canada
CATEGORIES:Développement personnel,Méditation
ATTACH;FMTTYPE=image/jpeg:https://kio-o.ca/wp-content/uploads/2021/02/Tantra-Suprème-Martin-mai-2021.jpg
ORGANIZER;CN="Martin Bilodeau Auteur%2C auteur%2C conf%C3%A9rencier et enseignant":MAILTO:info@martinbilodeau.com
GEO:46.132966;-74.1940374
X-APPLE-STRUCTURED-LOCATION;VALUE=URI;X-ADDRESS=Kio-o 1905 Chemin du rang 6 Sainte-Lucie Québec J0T 2J0 Canada;X-APPLE-RADIUS=500;X-TITLE=1905 Chemin du rang 6:geo:-74.1940374,46.132966
END:VEVENT
END:VCALENDAR