BEGIN:VCALENDAR
VERSION:2.0
PRODID:-//Kio-o - ECPv6.15.12.2//NONSGML v1.0//EN
CALSCALE:GREGORIAN
METHOD:PUBLISH
X-ORIGINAL-URL:https://kio-o.ca
X-WR-CALDESC:Évènements pour Kio-o
REFRESH-INTERVAL;VALUE=DURATION:PT1H
X-Robots-Tag:noindex
X-PUBLISHED-TTL:PT1H
BEGIN:VTIMEZONE
TZID:America/New_York
BEGIN:DAYLIGHT
TZOFFSETFROM:-0500
TZOFFSETTO:-0400
TZNAME:EDT
DTSTART:20210314T070000
END:DAYLIGHT
BEGIN:STANDARD
TZOFFSETFROM:-0400
TZOFFSETTO:-0500
TZNAME:EST
DTSTART:20211107T060000
END:STANDARD
BEGIN:DAYLIGHT
TZOFFSETFROM:-0500
TZOFFSETTO:-0400
TZNAME:EDT
DTSTART:20220313T070000
END:DAYLIGHT
BEGIN:STANDARD
TZOFFSETFROM:-0400
TZOFFSETTO:-0500
TZNAME:EST
DTSTART:20221106T060000
END:STANDARD
BEGIN:DAYLIGHT
TZOFFSETFROM:-0500
TZOFFSETTO:-0400
TZNAME:EDT
DTSTART:20230312T070000
END:DAYLIGHT
BEGIN:STANDARD
TZOFFSETFROM:-0400
TZOFFSETTO:-0500
TZNAME:EST
DTSTART:20231105T060000
END:STANDARD
END:VTIMEZONE
BEGIN:VEVENT
DTSTART;VALUE=DATE:20220429
DTEND;VALUE=DATE:20220502
DTSTAMP:20260421T201737
CREATED:20220126T161905Z
LAST-MODIFIED:20220407T192207Z
UID:10005976-1651190400-1651449599@kio-o.ca
SUMMARY:Awakening of Love avec Prema McKeever et Tushar
DESCRIPTION:Vivre passionnément\, aimer profondément et être réel \nQui suis je? Qu’est-ce que je veux vraiment dans cette vie ?  \nPrenez du temps loin de votre routine quotidienne pour explorer qui vous êtes et ce que vous voulez dans cette vie\, engagez-vous plus honnêtement avec vous-même et avec les autres\, et vivez avec authenticité\, passion\, courage et détermination.  \nCet atelier de week-end de « Path Retreats » intègre les dernières recherches et compréhensions en matière de développement scientifique et spirituel. Il présente une nouvelle façon révolutionnaire de vivre\, à travers la méditation\, l’inspiration et la découverte\, qui apporte un profond sentiment de paix intérieure\, de confiance en soi et en les autres\, et de bonheur. Cela peut vous donner les outils pour être plus connecté à vous-même et aux autres\, et la liberté d’aimer votre vie. C’est un processus unique d’introspection et de compréhension de qui vous êtes. Grâce à des méditations\, des exercices et un soutien individuel spécialement conçus par nos animateurs hautement qualifiés\, ce processus unique peut aider à réduire l’anxiété\, la dépression et l’isolement\, et vous rapprocher de votre force intérieure et de qui vous êtes vraiment.  \nTrouvez-vous… et faites l’expérience d’un sens plus profond\, d’une connexion et d’un plus grand bonheur lors de cette retraite de week-end transformationnelle.  \nPour informations et réservations\, contactez: canada@pathretreats.com  \nTarif atelier :  \nInscription anticipée : 325 $ CDN (avant le 7 avril 2022)  \nPlein tarif : 400 $ CA  \nÉtudiants et personnes dans le besoin : 250 $ CDN  \nLa retraite est résidentielle\, commençant à 18h le vendredi et se terminant à 17h30 le dimanche.  \nHébergement de l’atelier :  \nChambre double : 273\,64 $ canadiens incluant les taxes   \nChambre simple : 386\,32 $ canadiens incluant les taxes   \n Cela comprend les repas du souper du vendredi au diner du dimanche
URL:https://kio-o.ca/evenement/awakening-of-love-avec-prema-mckeever-et-tushar/
LOCATION:Kio-o\, 1905 Chemin du rang 6\, Sainte-Lucie\, Québec\, J0T 2J0\, Canada
CATEGORIES:Développement personnel,Méditation
ATTACH;FMTTYPE=image/png:https://kio-o.ca/wp-content/uploads/2019/09/PremaMcKeeverheadshot.png
ORGANIZER;CN="Jennifer McKeever":MAILTO:prema@premamckeever.com
GEO:46.132966;-74.1940374
X-APPLE-STRUCTURED-LOCATION;VALUE=URI;X-ADDRESS=Kio-o 1905 Chemin du rang 6 Sainte-Lucie Québec J0T 2J0 Canada;X-APPLE-RADIUS=500;X-TITLE=1905 Chemin du rang 6:geo:-74.1940374,46.132966
END:VEVENT
BEGIN:VEVENT
DTSTART;VALUE=DATE:20220429
DTEND;VALUE=DATE:20220502
DTSTAMP:20260421T201737
CREATED:20220307T152105Z
LAST-MODIFIED:20220308T194505Z
UID:10005995-1651190400-1651449599@kio-o.ca
SUMMARY:Formes et Schémas - 5Rythmes avec Erik Iversen
DESCRIPTION:Formes et Schémas\nJoignez-vous à moi\, Erik Iversen\, pour un weekend d’atelier 5Rythmes en personne à KIO-O dans les Laurentides \n\n\n\n\n\n« Mettez le feu à votre créativité et choisissez d’être avec ceux qui attisent les flammes »— Gay Hendricks\n\n\n\n\nLa vie est faite de mouvements. Et rester présent simultanément à notre corps\, nos pensées et notre environnement est un choix\, mais aussi une pratique quotidienne. Souvent\, nous sommes coincés dans des schémas de pensée et des comportements dictés par notre culture et notre éducation. Au cours de cet atelier Walk-to-dance des 5Rythmes\, nous explorerons nos schémas de mouvement personnels et collectifs ainsi que nos modes d’expression\, dans une ambiance ludique. En explorant les séquences habituelles et en faisant de nouveaux choix simples et amusants\, nous pouvons devenir plus présents\, connectés et enjoués dans notre quotidien. \nEn étant présents dans notre corps entier\, nous amplifions notre capacité à nous connecter à nous-mêmes et aux autres\, et à nous ouvrir au jeu. \nLes exercices de l’atelier sont conçus pour développer notre sensibilité aux dimensions de la masse\, de l’énergie et de l’espace; et ultimement pour offrir l’expérience d’un soi intégré. \nHORAIRE\nVendredi :  \nArrivée + enregistrement 16 h et 18 h \nSession de bienvenue 20 h – 22 h \nSamedi :\nSession du matin 9 h 30-12 h 30\nTemps libre 13 h – 15 h\nSession 15 h – 18 h\nSession de soirée 20 h – 21 h \nDimanche :\nSession du matin 9 h 30-12 h 30\nFermeture 14 h – 15 h\nDépart 15 h 17 h \nCOÛT\nHébergement : 2 nuits\, 6 repas végés frais \nFrais (tous inclus):  \nLève-tôt jusqu’au lundi le 4 avril : \nChambre simple – total avec taxes incluses : 610\,50 $ \nChambre double – total avec taxes incluses : 501\,45 $ par personne \nAprès le 4 avril : \nChambre simple – total avec taxes incluses : 645 $ \nChambre double – total avec taxes incluses : 535\,95 $ \nMéthodes de paiement : \nLigne d’objet : Shapes and Patterns \nVirement électronique à info@kiteparade.co \nPaypal à info@kiteparade.co \nPour confirmer et s’inscrire\, contactez Erik à:\nerik@iversen.ca\n514 815-7787
URL:https://kio-o.ca/evenement/formes-et-schemas-5rythmes-avec-erik-iversen/
LOCATION:Kio-o\, 1905 Chemin du rang 6\, Sainte-Lucie\, Québec\, J0T 2J0\, Canada
CATEGORIES:Mouvement
ATTACH;FMTTYPE=image/png:https://kio-o.ca/wp-content/uploads/2022/03/Capture-décran-le-2022-03-07-à-10.04.56.png
ORGANIZER;CN="Erik Iversen":MAILTO:erik@iversen.ca
GEO:46.132966;-74.1940374
X-APPLE-STRUCTURED-LOCATION;VALUE=URI;X-ADDRESS=Kio-o 1905 Chemin du rang 6 Sainte-Lucie Québec J0T 2J0 Canada;X-APPLE-RADIUS=500;X-TITLE=1905 Chemin du rang 6:geo:-74.1940374,46.132966
END:VEVENT
END:VCALENDAR