BEGIN:VCALENDAR
VERSION:2.0
PRODID:-//Kio-o - ECPv6.15.12.2//NONSGML v1.0//EN
CALSCALE:GREGORIAN
METHOD:PUBLISH
X-WR-CALNAME:Kio-o
X-ORIGINAL-URL:https://kio-o.ca
X-WR-CALDESC:Évènements pour Kio-o
REFRESH-INTERVAL;VALUE=DURATION:PT1H
X-Robots-Tag:noindex
X-PUBLISHED-TTL:PT1H
BEGIN:VTIMEZONE
TZID:America/New_York
BEGIN:DAYLIGHT
TZOFFSETFROM:-0500
TZOFFSETTO:-0400
TZNAME:EDT
DTSTART:20210314T070000
END:DAYLIGHT
BEGIN:STANDARD
TZOFFSETFROM:-0400
TZOFFSETTO:-0500
TZNAME:EST
DTSTART:20211107T060000
END:STANDARD
BEGIN:DAYLIGHT
TZOFFSETFROM:-0500
TZOFFSETTO:-0400
TZNAME:EDT
DTSTART:20220313T070000
END:DAYLIGHT
BEGIN:STANDARD
TZOFFSETFROM:-0400
TZOFFSETTO:-0500
TZNAME:EST
DTSTART:20221106T060000
END:STANDARD
BEGIN:DAYLIGHT
TZOFFSETFROM:-0500
TZOFFSETTO:-0400
TZNAME:EDT
DTSTART:20230312T070000
END:DAYLIGHT
BEGIN:STANDARD
TZOFFSETFROM:-0400
TZOFFSETTO:-0500
TZNAME:EST
DTSTART:20231105T060000
END:STANDARD
END:VTIMEZONE
BEGIN:VEVENT
DTSTART;VALUE=DATE:20221014
DTEND;VALUE=DATE:20221018
DTSTAMP:20260420T213107
CREATED:20211022T154405Z
LAST-MODIFIED:20220517T171428Z
UID:10005981-1665705600-1666051199@kio-o.ca
SUMMARY:Back to Balance - Yoga with Cat Doyle
DESCRIPTION:Back to Balance\n\nAutumn is the ideal season to reflect\, nourish and bring yourself back to balance. Yoga practices with Cat will include energizing flows and restorative yins. During the extended weekend\, you will experience grounding meditations\, delicious meals\, connecting group activities and time in nature\, all curated to leave you feeling more balanced.\n\nCat Doyle is based in the Ottawa-Gatineau area and has been teaching yoga and hosting retreats for over 10 years.
URL:https://kio-o.ca/evenement/back-to-balance-yoga-with-cat-doyle/
LOCATION:Kio-o\, 1905 Chemin du rang 6\, Sainte-Lucie\, Québec\, J0T 2J0\, Canada
CATEGORIES:Yoga
ATTACH;FMTTYPE=image/jpeg:https://kio-o.ca/wp-content/uploads/2021/10/Cat-Doyle.jpg
ORGANIZER;CN="Cat Doyle":MAILTO:info@unrollthemat.ca
GEO:46.132966;-74.1940374
X-APPLE-STRUCTURED-LOCATION;VALUE=URI;X-ADDRESS=Kio-o 1905 Chemin du rang 6 Sainte-Lucie Québec J0T 2J0 Canada;X-APPLE-RADIUS=500;X-TITLE=1905 Chemin du rang 6:geo:-74.1940374,46.132966
END:VEVENT
BEGIN:VEVENT
DTSTART;VALUE=DATE:20221021
DTEND;VALUE=DATE:20221024
DTSTAMP:20260420T213107
CREATED:20220709T162850Z
LAST-MODIFIED:20221005T210851Z
UID:10006028-1666310400-1666569599@kio-o.ca
SUMMARY:L’A.R.R.E.T. week-end de développement personnel pour femmes seulement
DESCRIPTION:Thématique « Le lâcher-prise »  \nNon seulement tu apprendras les étapes nécessaires \nau lâcher-prise\, mais tu pourras les expérimenter concrètement afin de repartir plus légère et sereine. \nRien de mieux que l’automne pour lâcher-prise non! \nKio-o en automne\, c’est la nature dans toute \nsa splendeur. Offre-toi plus qu’un ressourcement\, \noffre-toi un émerveillement. \nUn parfait mélange de ressourcement\, d’apprentissages et de connexions humaines. \nTOUT A ÉTÉ PENSÉ AFIN QUE TU REPARTES REPOSÉE\, ALLÉGÉE ET OUTILLÉE. \nVoici le lien pour tous les détails : https://isabellepare-coach.systeme.io/9a35198f \nAu plaisir de t’y accueillir!
URL:https://kio-o.ca/evenement/la-r-r-e-t-le-lacher-prise-avec-isabelle-pare/
LOCATION:Kio-o\, 1905 Chemin du rang 6\, Sainte-Lucie\, Québec\, J0T 2J0\, Canada
CATEGORIES:Développement personnel,Expression créative,Méditation
ATTACH;FMTTYPE=image/png:https://kio-o.ca/wp-content/uploads/2022/07/Capture-décran-le-2022-10-04-à-16.51.31.png
ORGANIZER;CN="Isabelle Par%C3%A9 - Coach et formatrice en d%C3%A9veloppement personnel pour les femmes":MAILTO:isabelle@institutidf.com
GEO:46.132966;-74.1940374
X-APPLE-STRUCTURED-LOCATION;VALUE=URI;X-ADDRESS=Kio-o 1905 Chemin du rang 6 Sainte-Lucie Québec J0T 2J0 Canada;X-APPLE-RADIUS=500;X-TITLE=1905 Chemin du rang 6:geo:-74.1940374,46.132966
END:VEVENT
BEGIN:VEVENT
DTSTART;VALUE=DATE:20221021
DTEND;VALUE=DATE:20221024
DTSTAMP:20260420T213107
CREATED:20220709T163931Z
LAST-MODIFIED:20220709T163931Z
UID:10006029-1666310400-1666569599@kio-o.ca
SUMMARY:Rencontre post formation avec Lily Champagne
DESCRIPTION:Événement privé
URL:https://kio-o.ca/evenement/rencontre-post-formation-avec-lily-champagne/
LOCATION:Kio-o\, 1905 Chemin du rang 6\, Sainte-Lucie\, Québec\, J0T 2J0\, Canada
CATEGORIES:Yoga
ATTACH;FMTTYPE=image/png:https://kio-o.ca/wp-content/uploads/2022/07/Lily-Champagne.png
ORGANIZER;CN="Lily Champagne":MAILTO:viniyoga@lilychampagne.com
GEO:46.132966;-74.1940374
X-APPLE-STRUCTURED-LOCATION;VALUE=URI;X-ADDRESS=Kio-o 1905 Chemin du rang 6 Sainte-Lucie Québec J0T 2J0 Canada;X-APPLE-RADIUS=500;X-TITLE=1905 Chemin du rang 6:geo:-74.1940374,46.132966
END:VEVENT
END:VCALENDAR