BEGIN:VCALENDAR
VERSION:2.0
PRODID:-//Kio-o - ECPv6.15.12.2//NONSGML v1.0//EN
CALSCALE:GREGORIAN
METHOD:PUBLISH
X-WR-CALNAME:Kio-o
X-ORIGINAL-URL:https://kio-o.ca
X-WR-CALDESC:Évènements pour Kio-o
REFRESH-INTERVAL;VALUE=DURATION:PT1H
X-Robots-Tag:noindex
X-PUBLISHED-TTL:PT1H
BEGIN:VTIMEZONE
TZID:America/New_York
BEGIN:DAYLIGHT
TZOFFSETFROM:-0500
TZOFFSETTO:-0400
TZNAME:EDT
DTSTART:20220313T070000
END:DAYLIGHT
BEGIN:STANDARD
TZOFFSETFROM:-0400
TZOFFSETTO:-0500
TZNAME:EST
DTSTART:20221106T060000
END:STANDARD
BEGIN:DAYLIGHT
TZOFFSETFROM:-0500
TZOFFSETTO:-0400
TZNAME:EDT
DTSTART:20230312T070000
END:DAYLIGHT
BEGIN:STANDARD
TZOFFSETFROM:-0400
TZOFFSETTO:-0500
TZNAME:EST
DTSTART:20231105T060000
END:STANDARD
BEGIN:DAYLIGHT
TZOFFSETFROM:-0500
TZOFFSETTO:-0400
TZNAME:EDT
DTSTART:20240310T070000
END:DAYLIGHT
BEGIN:STANDARD
TZOFFSETFROM:-0400
TZOFFSETTO:-0500
TZNAME:EST
DTSTART:20241103T060000
END:STANDARD
END:VTIMEZONE
BEGIN:VEVENT
DTSTART;VALUE=DATE:20230106
DTEND;VALUE=DATE:20230109
DTSTAMP:20260419T212025
CREATED:20221216T150554Z
LAST-MODIFIED:20221216T150554Z
UID:10005848-1672963200-1673222399@kio-o.ca
SUMMARY:Retraite spirituelle  Guidée par Pierre Lessard
DESCRIPTION:Pierre Lessard\, guide de retraite spirituelle\nDepuis 45 années\, Pierre Lessard\, guidé par des sages et des maîtres\, explore les différents pouvoirs spirituels et du subconscient. \nSa pratique quotidienne lui permet de découvrir que les effets réels des facultés sont directement reliés à l’intensification des bases spirituelles. \nNon seulement elles ont contribué à éveiller toute sa puissance énergétique\, mais elles se situent au cœur de son parcours vers l’unité et la maîtrise. \nDes rencontres avec des sages et des maîtres en Inde\, en Mongolie\, en Thaïlande\, au Pérou et dans plusieurs autres pays lui ont permis de constater l’universalité de ses enseignements et pratiques. \nContenu et méthodologie \n\nProcessus d’équilibre énergétique à l’extérieur\n Méditation\n Rituel de purification\n Rituel de guérison\n Expérience chamanique dans la forêt\n Sessions de captation de particules (solaires\, praniques\, cristallines\, adamantines)\n Éveil énergétique niveaux physique et psychique pour 2023\n Établissement des buts et des défis de 2023\n Session de stimulation des perceptions\n Détente physique\, psychique et système nerveux\nRessourcement\n\nInformation : info@symphonie.life
URL:https://kio-o.ca/evenement/retraite-spirituelle-guidee-par-pierre-lessard/
LOCATION:Kio-o\, 1905 Chemin du rang 6\, Sainte-Lucie\, Québec\, J0T 2J0\, Canada
CATEGORIES:Méditation,Rituel
ATTACH;FMTTYPE=image/png:https://kio-o.ca/wp-content/uploads/2022/12/Capture-décran-le-2022-12-16-à-09.58.33.png
ORGANIZER;CN="Pierre Lessard":MAILTO:info@symphonie.life
GEO:46.132966;-74.1940374
X-APPLE-STRUCTURED-LOCATION;VALUE=URI;X-ADDRESS=Kio-o 1905 Chemin du rang 6 Sainte-Lucie Québec J0T 2J0 Canada;X-APPLE-RADIUS=500;X-TITLE=1905 Chemin du rang 6:geo:-74.1940374,46.132966
END:VEVENT
END:VCALENDAR