BEGIN:VCALENDAR
VERSION:2.0
PRODID:-//Kio-o - ECPv6.15.12.2//NONSGML v1.0//EN
CALSCALE:GREGORIAN
METHOD:PUBLISH
X-WR-CALNAME:Kio-o
X-ORIGINAL-URL:https://kio-o.ca
X-WR-CALDESC:Évènements pour Kio-o
REFRESH-INTERVAL;VALUE=DURATION:PT1H
X-Robots-Tag:noindex
X-PUBLISHED-TTL:PT1H
BEGIN:VTIMEZONE
TZID:America/New_York
BEGIN:DAYLIGHT
TZOFFSETFROM:-0500
TZOFFSETTO:-0400
TZNAME:EDT
DTSTART:20250309T070000
END:DAYLIGHT
BEGIN:STANDARD
TZOFFSETFROM:-0400
TZOFFSETTO:-0500
TZNAME:EST
DTSTART:20251102T060000
END:STANDARD
BEGIN:DAYLIGHT
TZOFFSETFROM:-0500
TZOFFSETTO:-0400
TZNAME:EDT
DTSTART:20260308T070000
END:DAYLIGHT
BEGIN:STANDARD
TZOFFSETFROM:-0400
TZOFFSETTO:-0500
TZNAME:EST
DTSTART:20261101T060000
END:STANDARD
BEGIN:DAYLIGHT
TZOFFSETFROM:-0500
TZOFFSETTO:-0400
TZNAME:EDT
DTSTART:20270314T070000
END:DAYLIGHT
BEGIN:STANDARD
TZOFFSETFROM:-0400
TZOFFSETTO:-0500
TZNAME:EST
DTSTART:20271107T060000
END:STANDARD
END:VTIMEZONE
BEGIN:VEVENT
DTSTART;VALUE=DATE:20260514
DTEND;VALUE=DATE:20260518
DTSTAMP:20260419T084743
CREATED:20260331T181158Z
LAST-MODIFIED:20260331T182130Z
UID:10006355-1778716800-1779062399@kio-o.ca
SUMMARY:L'assouplissement de l'armure corporelle - Le triangle inférieur avec Hélène d'Astous et Pascale Labonté
DESCRIPTION:Que tu débutes avec L’Essence du Souffle ou que tu sois un(e) étudiant(e) avancé(e) ou peut-être même déjà certifié(e) 400h avec nous\, L’équipe Essence du Souffle t’invite personnellement à te joindre à notre magnifique RETRAITE\FORMATION sur : L’assouplissement de l’armure corporelle – Le triangle inférieur.\nAnimé par Hélène D’Astous\, directrice EDS\, Pascale Labonté formatrice certifiée EDS avec la présence virtuelle d’Annie Langlois\, fondatrice EDS. \n* Notre magnifique FORMATION est REVAMPÉE cette année pour miser son contenu sur l’expérience du corps ainsi que de la résonance du coeur. **Nos anciens sont toujours invités à goûter au nouveau contenu au coût de 300 $ (version en ligne complète) ou 425 $ version 50%présentiel/50% en ligne. \nNous serons à la fois en présentiel (format RETRAITE au Centre Kio-o) – et en format en ligne LIVE pour la Partie 1 + 2\, de façon à vous faire vivre ces 8 jours transformateurs à partir de n’importe où dans le monde!!! \nVoici ce que te réserve cette belle formation exceptionnelle : \n\nimmersion au coeur de la respiration consciente somatique (total: 7 jours)\nMASTERCLASS pré-enregistrées sur la respiration et la libérations des traumas avec deux invités spéciaux internationnaux\n5 séances de méditation active axées sur l’assouplissement des ceintures de tension de l’armure corporelle\n5 séances de respiration consciente somatique axées sur l’assouplissement des ceintures de tension de l’armure corporelle\n5 séances d’observation documentées\n5 démonstrations LIVE de séances individuelles pour les futurs facilitateurs\n1 séance de support de groupe post-formation avec l’équipe Essence du Souffle\nAccès aux enregistrements des formations et des séances de méditation + respiration pendant 10 mois\nContenu ultra riche sur les thèmes suivants: l’anatomie des ceintures de tension\, les structures caractérielles\, le toucher facilitateur\, l’enseignement d’une séance individuelle Essence du Souffle\, l’entrevue initiale\, le titrage\, la résonance\, l’intelligence du coeur et l’apprentissage des ressentis dans la gestion des émotions\n4 manuels de formation EDS en format PDF\nGroupe facebook d’échange et de partage\nEt bien plus encore…\n\nComment te sens-tu lorsque tu lis ces mots ? Est-ce que cela résonne en toi ? Tu cherches à plonger dans la compréhension du corps humain et de ses immenses pouvoirs ? Tu désires te libérer enfin des charges émotionnelles emmagasinées dans le corps sous forme de tensions ? La formation Essence du Souffle est pour toi 🙂 La respiration a complètement transformé ma vie et ma perception de mon expérience humaine… pour le mieux!!!! \nPour t’inscrire à cette formation\, voici la façon de faire :\n*** Inscription à la formation en 1 ou 3 versements pour les NOUVEAUX participants: https://www.essencedusouffle.com/formation-essence-du-souffle-niveau-4 \nIMPORTANT DE NOTER QUE LE FORMAT EN PRÉSENTIEL PEUT PRENDRE UN NOMBRE LIMITÉ DE PARTICIPANTS\n*** Pour l’inscription des anciens élèves\, svp communiquer avec nous à info@annielanglois.com \n*** À noter que les frais de participation pour les anciens qui désirent participer à la version en présentielle sont de 425 $ + taxes payables par virement interac à info@annielanglois.com \n  \nTARIFS HÉBERGEMENT ET REPAS (inclus 3 nuits et 3 repas par jour) Voir les tarifs ici \nDES QUESTIONS  ? info@annielanglois.com \nTOUS LES DÉTAILS (https://www.essencedusouffle.com/formation-essence-du-souffle-niveau-4) \nPartagez...FacebookGoogleTwitterLinkedinEmail
URL:https://kio-o.ca/evenement/lassouplissement-de-larmure-corporelle-le-triangle-inferieur-avec-helene-dastous-et-pascale-labonte/
LOCATION:Kio-o\, 1905 Chemin du rang 6\, Sainte-Lucie\, Québec\, J0T 2J0\, Canada
CATEGORIES:Développement personnel
ATTACH;FMTTYPE=image/png:https://kio-o.ca/wp-content/uploads/2025/01/Helene-DAstous-et-Pascale-Labonte.png
ORGANIZER;CN="Essence du souffle":MAILTO:info@annielanglois.com
GEO:46.132966;-74.1940374
X-APPLE-STRUCTURED-LOCATION;VALUE=URI;X-ADDRESS=Kio-o 1905 Chemin du rang 6 Sainte-Lucie Québec J0T 2J0 Canada;X-APPLE-RADIUS=500;X-TITLE=1905 Chemin du rang 6:geo:-74.1940374,46.132966
END:VEVENT
END:VCALENDAR