BEGIN:VCALENDAR
VERSION:2.0
PRODID:-//Kio-o - ECPv6.15.12.2//NONSGML v1.0//EN
CALSCALE:GREGORIAN
METHOD:PUBLISH
X-WR-CALNAME:Kio-o
X-ORIGINAL-URL:https://kio-o.ca
X-WR-CALDESC:Évènements pour Kio-o
REFRESH-INTERVAL;VALUE=DURATION:PT1H
X-Robots-Tag:noindex
X-PUBLISHED-TTL:PT1H
BEGIN:VTIMEZONE
TZID:America/New_York
BEGIN:DAYLIGHT
TZOFFSETFROM:-0500
TZOFFSETTO:-0400
TZNAME:EDT
DTSTART:20230312T070000
END:DAYLIGHT
BEGIN:STANDARD
TZOFFSETFROM:-0400
TZOFFSETTO:-0500
TZNAME:EST
DTSTART:20231105T060000
END:STANDARD
BEGIN:DAYLIGHT
TZOFFSETFROM:-0500
TZOFFSETTO:-0400
TZNAME:EDT
DTSTART:20240310T070000
END:DAYLIGHT
BEGIN:STANDARD
TZOFFSETFROM:-0400
TZOFFSETTO:-0500
TZNAME:EST
DTSTART:20241103T060000
END:STANDARD
BEGIN:DAYLIGHT
TZOFFSETFROM:-0500
TZOFFSETTO:-0400
TZNAME:EDT
DTSTART:20250309T070000
END:DAYLIGHT
BEGIN:STANDARD
TZOFFSETFROM:-0400
TZOFFSETTO:-0500
TZNAME:EST
DTSTART:20251102T060000
END:STANDARD
BEGIN:DAYLIGHT
TZOFFSETFROM:-0500
TZOFFSETTO:-0400
TZNAME:EDT
DTSTART:20260308T070000
END:DAYLIGHT
BEGIN:STANDARD
TZOFFSETFROM:-0400
TZOFFSETTO:-0500
TZNAME:EST
DTSTART:20261101T060000
END:STANDARD
END:VTIMEZONE
BEGIN:VEVENT
DTSTART;VALUE=DATE:20250207
DTEND;VALUE=DATE:20250210
DTSTAMP:20260420T190755
CREATED:20241024T180551Z
LAST-MODIFIED:20241027T143235Z
UID:10006215-1738886400-1739145599@kio-o.ca
SUMMARY:Retraite sacrée en pleine nature avec Gabrielle Cloutier
DESCRIPTION:Places limitées à 12 participants\n________ \nLa retraite Aimons-nous!\, c’est un espace sacré et enveloppant dédié au ressourcement et à l’amour de soi. C’est un moment pour (ré)apprendre à être bienveillant(e) avec toi-même\, te donner du soutien émotionnel\, te comprendre\, t’accepter comme tu es\, être toi-même\, écouter tes émotions et les exprimer\, partager et te mettre en priorité. Tu seras en pleine conscience de qui tu es et tu t’accepteras de plus en plus dans tes forces et faiblesses dans le non-jugement. Toutes les activités seront autour de la bonté et la compassion envers soi-même. Tu appliqueras ensuite l’expérience et les ressources dans ton quotidien.\n________ \nCe qui t’attend dans cette aventure d’une fin de semaine: \n\nCercles de partage\n•Yoga Nidra\nAtelier sur l’amour de soi (quizz\, exercices\, tableau de visualisation et écriture)\nDanse Fitness Latine\nRituel autour d’un feu de camp\nCérémonie de cacao\n•Promenade méditative dans la forêt\n•Yoga restaurateur\n•ZY Qi Gong\n•Bienveillance\, joie et authenticité\n•Moments libres\n\n________ \nTous les repas sont inclus. \nDes tisanes et du café seront à ta disposition.\n________ \nInscription par personne \n  \nCONTRIBUTION EARLY BIRD : 50 $ de rabais additionnel sur toutes les contributions jusqu’au 15 novembre 2024 minuit.\n•Chambre semi-privée avec 3 lits simples : 649 $ taxes incluses\n•Chambre semi-privée avec 2 lits simples: 699 $ taxes incluses\n•Chambre privée : 809 $ taxes incluses \n  \nCela inclus :\n• Tous les repas de vendredi à dimanche (2 déjeuners\, 2 diners\, 2 soupers végétariens ou végétaliens)\n• L’accès à toutes les activités (ateliers\, cérémonie et rituel) pendant les 3 jours\n• L’accès aux infrastructures intérieures et extérieures de Kio-o\n• Tout le matériel pour les activités\, le cacao\, les tisanes et le café\n• L’emprunt de tapis de yoga\, de chaisières au sol\, de blocs de liège\, de courroies de coton et de coussins en écorce de sarrasin zabutons et zafus \n  \nPOUR RÉSERVER TA PLACE :\n• Envoie un virement bancaire à mouvementsconnexionnature@gmail.com en précisant quelle option tu souhaites pour l’hébergement. Tu recevras un courriel de confirmation.\n• Ce n’est pas remboursable\, mais transférable à une personne. \n\nTu peux payer en 2 versements\, le 2e étant envoyé avant le 7 janvier.\n• Si tu as la contribution early bird et que tu payes en 2 versements\, la différence devra être envoyée par virement bancaire à la même adresse avant le 15 décembre.\n________\n\nPour toute question\, n’hésite pas à m’écrire sur Facebook.\nAu plaisir de se réunir\, de se ressourcer et de s’équilibrer ensemble!\nGabrielle \n  \n  \nPartagez...FacebookGoogleTwitterLinkedinEmail
URL:https://kio-o.ca/evenement/retraite-sacree-en-pleine-nature-avec-gabrielle-cloutier-2/
LOCATION:Kio-o\, 1905 Chemin du rang 6\, Sainte-Lucie\, Québec\, J0T 2J0\, Canada
CATEGORIES:Développement personnel,Expression créative,Mouvement,Rituel,Yoga
ATTACH;FMTTYPE=image/png:https://kio-o.ca/wp-content/uploads/2024/10/Photo-Retraite-fevrier.png
ORGANIZER;CN="Gabrielle Cloutier":MAILTO:mouvementsconnexionnature@gmail.com
GEO:46.132966;-74.1940374
X-APPLE-STRUCTURED-LOCATION;VALUE=URI;X-ADDRESS=Kio-o 1905 Chemin du rang 6 Sainte-Lucie Québec J0T 2J0 Canada;X-APPLE-RADIUS=500;X-TITLE=1905 Chemin du rang 6:geo:-74.1940374,46.132966
END:VEVENT
BEGIN:VEVENT
DTSTART;VALUE=DATE:20241004
DTEND;VALUE=DATE:20241007
DTSTAMP:20260420T190755
CREATED:20240531T163338Z
LAST-MODIFIED:20240531T195826Z
UID:10006196-1728000000-1728259199@kio-o.ca
SUMMARY:Retraite sacrée en pleine nature  avec Gabrielle Cloutier
DESCRIPTION:Places limitées à 12 participants \n________\nLa retraite Incarnons les 5 éléments! \, c’est un espace sacré et équilibrant dédié au ressourcement et à la connexion à ta/la nature. C’est un moment pour (ré)apprendre qui tu es grâce à l’ayurvéda (médecine indienne)\, te comprendre\, être toi-même\, faire un avec la nature\, écouter ton cœur et ton intuition\, partager et te prioriser. Tu connaitras les éléments dominants en toi afin de te (re)balancer et de retrouver l’harmonie. Toutes les activités seront autour des éléments. Tu appliqueras ensuite l’expérience et les ressources dans ton quotidien. \n________\nCe qui t’attend dans cette aventure d’une fin de semaine:\n•Cercles de partage \n•Yoga Nidra \n•Quizz ayurvédique – dessin intuitif – théorie 5 éléments\n•Danse Fitness Latine \n•Rituel autour d’un feu de camp \n•Cérémonie de cacao \n•Promenade méditative dans la forêt \n•Yin Yoga Nidra \n•ZY Qi Gong \n•Bienveillance\, joie et authenticité \n•Moments libres \n________\nNotre séjour se déroulera à Kio-o\, LE centre de ressourcement et de créativité au Québec\, niché dans les magnifiques montagnes laurentiennes. La beauté et l’atmosphère des lieux\, dont le lac privé\, favoriseront le silence\, le calme et l’inspiration. \nDans notre hébergement\, la maison du Soleil levant\, il y a 4 salles de bain\, un chaleureux salon et un joli studio. \nTu auras un lit confortable dans cet endroit accueillant. Des chambres privées et semi-privées sont disponibles. \n\n________\nTous les repas seront préparés avec amour par le centre Kio-o. Les repas seront exquis\, sains et végétariens\, avec des options végétaliennes\, sans gluten et/ou adaptées à tes intolérances alimentaires sur demande. \nDes tisanes et du café seront à ta disposition. \n________\nInscription par personne \nCONTRIBUTION EARLY BIRD : 50 $ de rabais additionnel sur toutes les contributions jusqu’au 27 juin 2024 minuit.\n• Chambre semi-privée avec 3 lits simples : 549 $ tout inclus\n• Chambre semi-privée avec 2 lits simples: 599 $ tout inclus\n• Chambre privée : 699 $ tout inclus\n\nCela inclus :\n• Tous les repas de vendredi à dimanche (2 déjeuners\, 2 diners\, 2 soupers végétariens ou végétaliens)\n• L’accès à toutes les activités (ateliers\, cérémonie et rituel) pendant les 3 jours\n• L’accès aux infrastructures intérieures et extérieures de Kio-o\n• Tout le matériel pour les activités\, le cacao\, les tisanes et le café\n• L’emprunt de tapis de yoga\, de chaisières au sol\, de blocs de liège\, de courroies de coton et de coussins en écorce de sarrasin zabutons et zafus\n\nPOUR RÉSERVER TA PLACE :\n• Envoie un virement bancaire à mouvementsconnexionnature@gmail.com en précisant quelle option tu souhaites pour l’hébergement. Tu recevras un courriel de confirmation.\n• Ce n’est pas remboursable\, mais transférable à une personne.\n•Tu peux payer en 2 versements\, le 2e étant envoyé avant le 6 septembre.\n• Si tu as la contribution early bird et que tu payes en 2 versements\, la différence devra être envoyée par virement bancaire à la même adresse avant le 25 juillet.\n________\nPour toute question\, n’hésite pas à m’écrire sur Facebook.\nAu plaisir de se réunir\, de se ressourcer et de s’équilibrer ensemble!\nGabrielle \n\n\n\n\nPartagez...FacebookGoogleTwitterLinkedinEmail
URL:https://kio-o.ca/evenement/retraite-sacree-en-pleine-nature-avec-gabrielle-cloutier/
LOCATION:Kio-o\, 1905 Chemin du rang 6\, Sainte-Lucie\, Québec\, J0T 2J0\, Canada
CATEGORIES:Rituel,Yoga
ATTACH;FMTTYPE=image/jpeg:https://kio-o.ca/wp-content/uploads/2024/05/Retraite-Kio-o-04-06-octobre-2024.jpg
ORGANIZER;CN="Gabrielle Cloutier":MAILTO:mouvementsconnexionnature@gmail.com
GEO:46.132966;-74.1940374
X-APPLE-STRUCTURED-LOCATION;VALUE=URI;X-ADDRESS=Kio-o 1905 Chemin du rang 6 Sainte-Lucie Québec J0T 2J0 Canada;X-APPLE-RADIUS=500;X-TITLE=1905 Chemin du rang 6:geo:-74.1940374,46.132966
END:VEVENT
BEGIN:VEVENT
DTSTART;VALUE=DATE:20240524
DTEND;VALUE=DATE:20240527
DTSTAMP:20260420T190755
CREATED:20240223T162439Z
LAST-MODIFIED:20240305T192120Z
UID:10006156-1716508800-1716767999@kio-o.ca
SUMMARY:Retraite sacrée  | Brillons ensemble!  avec Gabrielle Cloutier
DESCRIPTION:Retraite sacrée en pleine nature \n\nPlaces limitées à 14 participant·e·s \n________\n\nLa retraite Brillons ensemble! \, c’est un espace sacré et transformateur dédié au ressourcement et à la manifestation de nos intentions.  C’est un moment pour lancer dans l’univers ce que l’on désire\, être soi-même\, rayonner\, honorer chaque moment de notre existence\, s’écouter\, partager\, suivre son intuition et se choisir. Tu appliqueras ensuite l’expérience et les ressources dans ton quotidien. ️\n________\n\nCe qui t’attend dans cette aventure d’une fin de semaine :\n\n• Cercles de partage \n• Cérémonie de cacao \n• Écriture intuitive et thérapeutique \n• Promenade méditative dans la forêt \n• Yoga Hatha flow \n• Yoga Nidra (repos conscient) \n• Danse intuitive guidée \n• Rituel autour d’un feu de camp \n• ZY Qi Gong \n• Bienveillance\, joie et authenticité ️\n• Moments libres \n\n________\n\nTous les repas seront préparés avec amour par le centre Kio-o. Les repas seront exquis\, sains et végétariens\, avec des options végétaliennes\, sans gluten et/ou adaptées à tes intolérances alimentaires sur demande. \n\nDes tisanes et du café seront à ta disposition. \n________\n\nAnimatrice : Gabrielle Cloutier \n\nGabrielle est une enseignante dans l’âme. Elle découvre une nouvelle activité et se retrouve souvent à l’enseigner! Elle adore transmettre des connaissances et des ressources dans le plaisir\, ainsi que partager de magiques moments en communauté. Gabrielle est enseignante de Yoga\, de Méditation\, de Qigong et de Danse. Elle travaille également comme enseignante de français langue seconde pour le MIFI avec les nouveaux arrivants et pour les entreprises. Après avoir suivi une formation en Lancement d’entreprise\, elle a créé sa compagnie Mouvements Connexion Nature afin d’offrir des cours\, des événements\, des ateliers\, des retraites sacrées\, des soins reiki et des massages énergétiques. Elle enseigne aussi dans les Villes. L’authenticité\, la joie et la bienveillance sont des mots-clés importants pour elle. Elle désire que les participantes soient elles-mêmes et retrouvent leurs véritables couleurs dans le plaisir. \n\nGabrielle a fait sa certification comme Instructrice de Zumba en 2013. Lorsqu’elle a terminé sa Maîtrise en Études littéraires à l’UQÀM\, elle s’est dirigée vers l’approche holistique en effectuant diverses formations : Résonance numineuse\, ZY Qi Gong médical\, Yoga ayurvédique & thérapeutique\, Yoga Nidra\, Yoga Anatomie avancée\, Yin Yoga\, Reiki 1 & 2 et Massage énergétique. Elle s’intéresse à la naturopathie et aux médecines indienne et chinoise. Elle utilise les cristaux\, les huiles essentielles et les instruments de musique dans son quotidien. \n\nMouvements Connexion Nature\n________\n\nInscription \n\n TARIF EARLY BIRD : 50 $ de rabais additionnel sur tous les tarifs jusqu’au 21 mars 2024 minuit.\n•Chambre semi-privée avec 3 lits simples : 549 $ tout inclus\n•Chambre semi-privée avec 2 lits simples : 599 $ tout inclus\n•Chambre privée : 699 $ tout inclus\n\n️ Cela inclus :\n• Tous les repas de vendredi à dimanche (2 déjeuners\, 2 diners\, 2 soupers végétariens ou végétaliens)\n• L’accès à toutes les activités ( ateliers\, cérémonie et rituel ) pendant les 3 jours\n• L’accès aux infrastructures intérieures et extérieures de Kio-o\n• Tout le matériel pour les activités\, le cacao\, les tisanes et le café\n• L’emprunt de tapis de yoga\, de chaisières au sol\, de blocs de liège\, de courroies de coton et de coussins en écorce de sarrasin zabutons et zafus\n\n POUR RÉSERVER TA PLACE :\n• Envoie un virement bancaire à mouvementsconnexionnature@gmail.com en précisant quelle option tu souhaites pour l’hébergement. Tu recevras un courriel de confirmation.\n• Ce n’est pas remboursable\, mais transférable à une amie.\n• Tu peux payer en 2 versements\, le 2e étant envoyé avant le 26 avril.\n• Si tu as le tarif « early bird » et que tu payes en 2 versements\, la différence devra être envoyée par virement bancaire à la même adresse avant le 5 avril.\n________\nPour toute question\, n’hésite pas à m’écrire sur Facebook.\nAu plaisir de se réunir\, de se ressourcer et de briller ensemble! \nGabrielle\nPartagez...FacebookGoogleTwitterLinkedinEmail
URL:https://kio-o.ca/evenement/retraite-sacree-brillons-ensemble-avec-gabrielle-cloutier/
LOCATION:Kio-o\, 1905 Chemin du rang 6\, Sainte-Lucie\, Québec\, J0T 2J0\, Canada
CATEGORIES:Rituel,Yoga
ATTACH;FMTTYPE=image/jpeg:https://kio-o.ca/wp-content/uploads/2024/03/Babrielle-cloutier.jpg
ORGANIZER;CN="Gabrielle Cloutier":MAILTO:mouvementsconnexionnature@gmail.com
GEO:46.132966;-74.1940374
X-APPLE-STRUCTURED-LOCATION;VALUE=URI;X-ADDRESS=Kio-o 1905 Chemin du rang 6 Sainte-Lucie Québec J0T 2J0 Canada;X-APPLE-RADIUS=500;X-TITLE=1905 Chemin du rang 6:geo:-74.1940374,46.132966
END:VEVENT
END:VCALENDAR