BEGIN:VCALENDAR
VERSION:2.0
PRODID:-//Kio-o - ECPv6.15.12.2//NONSGML v1.0//EN
CALSCALE:GREGORIAN
METHOD:PUBLISH
X-ORIGINAL-URL:https://kio-o.ca
X-WR-CALDESC:Évènements pour Kio-o
REFRESH-INTERVAL;VALUE=DURATION:PT1H
X-Robots-Tag:noindex
X-PUBLISHED-TTL:PT1H
BEGIN:VTIMEZONE
TZID:America/New_York
BEGIN:DAYLIGHT
TZOFFSETFROM:-0500
TZOFFSETTO:-0400
TZNAME:EDT
DTSTART:20200308T070000
END:DAYLIGHT
BEGIN:STANDARD
TZOFFSETFROM:-0400
TZOFFSETTO:-0500
TZNAME:EST
DTSTART:20201101T060000
END:STANDARD
BEGIN:DAYLIGHT
TZOFFSETFROM:-0500
TZOFFSETTO:-0400
TZNAME:EDT
DTSTART:20210314T070000
END:DAYLIGHT
BEGIN:STANDARD
TZOFFSETFROM:-0400
TZOFFSETTO:-0500
TZNAME:EST
DTSTART:20211107T060000
END:STANDARD
BEGIN:DAYLIGHT
TZOFFSETFROM:-0500
TZOFFSETTO:-0400
TZNAME:EDT
DTSTART:20220313T070000
END:DAYLIGHT
BEGIN:STANDARD
TZOFFSETFROM:-0400
TZOFFSETTO:-0500
TZNAME:EST
DTSTART:20221106T060000
END:STANDARD
BEGIN:DAYLIGHT
TZOFFSETFROM:-0500
TZOFFSETTO:-0400
TZNAME:EDT
DTSTART:20230312T070000
END:DAYLIGHT
BEGIN:STANDARD
TZOFFSETFROM:-0400
TZOFFSETTO:-0500
TZNAME:EST
DTSTART:20231105T060000
END:STANDARD
END:VTIMEZONE
BEGIN:VEVENT
DTSTART;VALUE=DATE:20220513
DTEND;VALUE=DATE:20220516
DTSTAMP:20260421T004813
CREATED:20220429T145204Z
LAST-MODIFIED:20220429T145204Z
UID:10006000-1652400000-1652659199@kio-o.ca
SUMMARY:DIVINITÉ SAUVAGE ÉVEILLER SA NATURE SACRÉE avec Maira Martinez
DESCRIPTION:DIVINITÉ SAUVAGE\nÉVEILLER SA NATURE SACRÉE\nStage en résidence animé par Maira Martinez\, \nFacilitatrice didacte\nLa proposition est simple et audacieuse : re signifier notre parcours existentiel\npour récupérer la nature profondément sacrée\, créatrice et sauvage de notre\npropre identité. Après deux ans de pandémie\, de règles et de déstabilisation\,\npersonnellement… collectivement… où en sommes-nous? Qui sommes-nous?\nRe signifier permet de re générer\, de rétablir les bases identitaires. Cela permet\nde s’affranchir de l’histoire dépassée que l’on se raconte sur soi-même et sur le\nmonde et de créer une vision renouvelée de sa propre aventure existentielle en\ntant que manifestation du déploiement organique de la splendeur de la vie. \nDans cette perspective\, vivre devient un acte sacré. Alors\, chacun de nos gestes\ns’ancrent profondément dans l’essence même de la nature\, sauvage et\néternelle. \nC’est par l’exploration et la création de mythes et de rites\, qu’au cours de ce\nstage nous serons amené(e)s à contacter le Dieu/Déesse de création qui\nsommeil dans les profondeurs de notre être. La méditation guidée\, la danse\, les\ngestes archétypaux\, les mouvements-métaphores nous servirons de voie\nd’accès à la sapience (alliance de sagesse et de science) immémoriale de la\nDivinité Sauvage que nous sommes par essence. \nFort de cette expérience de nous-même\, nous saurons renouveler le mythe\nfondateur de notre existence et ainsi permettre à ce Dieu/Déesse de création de\ndanser librement au cœur de notre quotidien. \nPrix : contribution consciente (toute offre\, aussi modeste ou grandiose\, sera\nacceptée) \nPrix suggéré : entre 180 $+ tx et 300 $+ tx pour le stage selon vos moyens\nDépôt de 100 $ garantie votre place \nHébergement 2 nuitées et 5 repas : 238 $+tx par personne chambre partagée (49 $ + tx\nsupplémentaire pour une chambre privée) \nInformations/inscription 514-995-0797 ou unispourprosperer@gmail.com \nPartagez...FacebookGoogleTwitterLinkedinEmail
URL:https://kio-o.ca/evenement/divinite-sauvage-eveiller-sa-nature-sacree-avec-maira-martinez/
LOCATION:Kio-o\, 1905 Chemin du rang 6\, Sainte-Lucie\, Québec\, J0T 2J0\, Canada
CATEGORIES:Développement personnel,Expression créative,Rituel
ATTACH;FMTTYPE=image/webp:https://kio-o.ca/wp-content/uploads/2021/08/Maira-Martinez.webp
ORGANIZER;CN="Maira Martinez":MAILTO:info.ecolebiodanzamtl@gmail.com
GEO:46.132966;-74.1940374
X-APPLE-STRUCTURED-LOCATION;VALUE=URI;X-ADDRESS=Kio-o 1905 Chemin du rang 6 Sainte-Lucie Québec J0T 2J0 Canada;X-APPLE-RADIUS=500;X-TITLE=1905 Chemin du rang 6:geo:-74.1940374,46.132966
END:VEVENT
BEGIN:VEVENT
DTSTART;VALUE=DATE:20210923
DTEND;VALUE=DATE:20210927
DTSTAMP:20260421T004813
CREATED:20210812T144627Z
LAST-MODIFIED:20210812T144924Z
UID:10005970-1632355200-1632700799@kio-o.ca
SUMMARY:VOYAGE (Extension de Biodanza « Le voyage du Héros »)    animé par Maira Martinez
DESCRIPTION:VOYAGE (Extension de Biodanza « Le voyage du Héros »)   \nAnimé par Maira Martinez \n  \nChacune de nos existences peut être perçue comme un voyage\, une quête\, une longue histoire qui se déroule chapitre après chapitre et qui met en scène non pas un\, mais les multiples héros/héroïnes qui vivent en nous. Notre légende\, la manière dont nous accomplissons notre destinée se tisse à partir de la danse singulière de ces diverses parts de nous. \n  \nCet atelier est donc une invitation à aller à la rencontre de notre nature archétypale. \n  \nInspirés par les travaux de Joseph Campbell et de Carol S. Pearson sur la quête héroïque et par la théorie du développement de l’identité de Rolando Toro\, nous explorerons 12 archétypes fondamentaux afin de les éveiller et de recevoir leurs guidances et les leçons et cadeaux qu’ils ont à nous offrir. \n  \nAu cœur de la nature Laurentienne\, dans la beauté de l’automne naissant\, nous danserons l’essence même de notre humanité. En nos danses\, nous régénérerons le souffle même de la Vie et développerons de nouvelles perspectives ouvrant la voie à tous les possibles ! \nHoraire : \nDu Jeudi soir 19h00\, 23 septembre 2021\, au dimanche soir 17h00\, 26 septembre 2021  \n  \nPrix :  \nAtelier et matériel \n325 $ + tx pour les étudiant-e-s de l’EBM et pour les inscriptions avant 1er septembre 2021 / 365 $ + tx pour les inscriptions après le 1er septembre 2021. \n  \nUn dépôt de 100 $ non remboursable garanti votre inscription \n  \nHébergement incluant la nourriture (8 repas et 3 nuitées) \n  \n325 $ plus taxes par personne pour une chambre partagée\n440 $ plus taxes par personne pour une chambre simple \n  \n  \nPour plus d’informations et vous inscrire\, contactez :\nGeneviève Sirois\nCoeur-Ordonnatrice\n514 995-0797 \nPartagez...FacebookGoogleTwitterLinkedinEmail
URL:https://kio-o.ca/evenement/voyage-extension-de-biodanza-le-voyage-du-heros-anime-par-maira-martinez/
LOCATION:Kio-o\, 1905 Chemin du rang 6\, Sainte-Lucie\, Québec\, J0T 2J0\, Canada
CATEGORIES:Développement personnel,Expression créative,Mouvement,Rituel
ATTACH;FMTTYPE=image/jpeg:https://kio-o.ca/wp-content/uploads/2021/08/Biodanza.jpg
ORGANIZER;CN="Maira Martinez":MAILTO:info.ecolebiodanzamtl@gmail.com
GEO:46.132966;-74.1940374
X-APPLE-STRUCTURED-LOCATION;VALUE=URI;X-ADDRESS=Kio-o 1905 Chemin du rang 6 Sainte-Lucie Québec J0T 2J0 Canada;X-APPLE-RADIUS=500;X-TITLE=1905 Chemin du rang 6:geo:-74.1940374,46.132966
END:VEVENT
END:VCALENDAR