BEGIN:VCALENDAR
VERSION:2.0
PRODID:-//Kio-o - ECPv6.15.12.2//NONSGML v1.0//EN
CALSCALE:GREGORIAN
METHOD:PUBLISH
X-ORIGINAL-URL:https://kio-o.ca
X-WR-CALDESC:Évènements pour Kio-o
REFRESH-INTERVAL;VALUE=DURATION:PT1H
X-Robots-Tag:noindex
X-PUBLISHED-TTL:PT1H
BEGIN:VTIMEZONE
TZID:America/New_York
BEGIN:DAYLIGHT
TZOFFSETFROM:-0500
TZOFFSETTO:-0400
TZNAME:EDT
DTSTART:20190310T070000
END:DAYLIGHT
BEGIN:STANDARD
TZOFFSETFROM:-0400
TZOFFSETTO:-0500
TZNAME:EST
DTSTART:20191103T060000
END:STANDARD
BEGIN:DAYLIGHT
TZOFFSETFROM:-0500
TZOFFSETTO:-0400
TZNAME:EDT
DTSTART:20200308T070000
END:DAYLIGHT
BEGIN:STANDARD
TZOFFSETFROM:-0400
TZOFFSETTO:-0500
TZNAME:EST
DTSTART:20201101T060000
END:STANDARD
BEGIN:DAYLIGHT
TZOFFSETFROM:-0500
TZOFFSETTO:-0400
TZNAME:EDT
DTSTART:20210314T070000
END:DAYLIGHT
BEGIN:STANDARD
TZOFFSETFROM:-0400
TZOFFSETTO:-0500
TZNAME:EST
DTSTART:20211107T060000
END:STANDARD
END:VTIMEZONE
BEGIN:VEVENT
DTSTART;VALUE=DATE:20200626
DTEND;VALUE=DATE:20200629
DTSTAMP:20260421T141901
CREATED:20191115T232304Z
LAST-MODIFIED:20200423T143444Z
UID:10005889-1593129600-1593388799@kio-o.ca
SUMMARY:Revenir à ma Yoni divine -REPORTÉ du 21 au 23 mai 2021
DESCRIPTION:avec Anita Moon Dancer\, Guylaine Charlebois et Sylvie-Guylaine Fortin \nParfois éphémères rencontres dans le plaisir partagé\, parfois blessures profondes à notre sexualité\, voire notre âme\, chacune de  nous prote en elle toutes les énergies non-transmutées des contacts sexuels voulus ou non\, avec les différent-e-s partenaires de sa vie. \nCet atelier se veut une occasion de faire la paix avec notre passé sexuel\, de libérer en toute conscience et avec douceur les mémoires qui entravent notre évolution de femme. \nPour vivre et honorer le féminin sacré en soi tous les jours de notre vie\, enfin libre de nous exprimer de multiples façcons\, cet atelier conjugue art\, danses du féminin sacré\, cérémonies et cercles de parole. \nAu plaisir de le partager avec vous! \nAu programme \nVENDREDI 26 JUIN \nCérémonie d’ouverture \nInvocation des déesses alliées \nDanses sacrées de protection \nCercle de parole \nSAMEDI 27 JUIN \nMéditation de l’arbre \nDanses sacrées d’intention et de libération \nAteliers créatifs \nCercle de parole \nYin Yoga \nDIMANCHE 28 JUIN \nSoin de l’utérus \nDanses sacrées de célébration \nCercle de parole de fermeture \n  \nPartagez...FacebookGoogleTwitterLinkedinEmail
URL:https://kio-o.ca/evenement/danses-en-cercle/
LOCATION:Kio-o\, 1905 Chemin du rang 6\, Sainte-Lucie\, Québec\, J0T 2J0\, Canada
CATEGORIES:Développement personnel,Mouvement
ATTACH;FMTTYPE=image/jpeg:https://kio-o.ca/wp-content/uploads/2019/11/Revenir_Yoni_Affiche_v3.jpg
ORGANIZER;CN="Sylvie-Guylaine Fortin":MAILTO:femmepapillon@hotmail.com
GEO:46.132966;-74.1940374
X-APPLE-STRUCTURED-LOCATION;VALUE=URI;X-ADDRESS=Kio-o 1905 Chemin du rang 6 Sainte-Lucie Québec J0T 2J0 Canada;X-APPLE-RADIUS=500;X-TITLE=1905 Chemin du rang 6:geo:-74.1940374,46.132966
END:VEVENT
END:VCALENDAR